BEGIN:VCALENDAR
VERSION:2.0
METHOD:PUBLISH
BEGIN:VEVENT
DTSTART:20240718T140000
DTEND:20240718T140000
LOCATION:Fundacja IB Polska   Kraków
TRANSP: OPAQUE
SEQUENCE:0
UID:
DTSTAMP:20260423T020335Z
SUMMARY:Symbioza Pospacerujmy i odkryjmy niesamowity świat | Symbiosis - Come on for walk with us! | Симбіоз - Доєднайтеся до нашої прогулянки!
DESCRIPTION:PL Symbioza - Pospacerujmy i odkryjmy niesamowity świat Czy wiedziałeś, że po prostuspacerowanie w przyrodzie ma wiele, wielekorzyści, któreciężkosobiewyobrazić?! Korzyścitakie jak:......
URL:https://app.evenea.pl/event/symbioza/
PRIORITY:1
CLASS:PUBLIC
END:VEVENT
END:VCALENDAR
