BEGIN:VCALENDAR
VERSION:2.0
METHOD:PUBLISH
BEGIN:VEVENT
DTSTART:20250207T110000
DTEND:20250207T130000
LOCATION:Książnica Pomorska Podgórna 15/16  Szczecin
TRANSP: OPAQUE
SEQUENCE:0
UID:
DTSTAMP:20260419T233015Z
SUMMARY:Szach - mat! Nauka gry w szachy (II tura)
DESCRIPTION:📅 Data: 07.02.2025 (piątek)📍 Miejsce: Sala nr 9, Książnica Pomorska🕕 Godzina: 11:00 - 13:00Zapraszamy na drugą turę zajęć "Szach - mat! Nauka gry w szachy" - wyjątkową okazję dla......
URL:https://app.evenea.pl/event/szach-mat2/
PRIORITY:1
CLASS:PUBLIC
END:VEVENT
END:VCALENDAR
