BEGIN:VCALENDAR
VERSION:2.0
METHOD:PUBLISH
BEGIN:VEVENT
DTSTART:20240314T170000
DTEND:20240314T180000
LOCATION:Miejsce Otwarte. Centrum Integracji Międzykulturowej. Kraków os. Górali 24  Kraków
TRANSP: OPAQUE
SEQUENCE:0
UID:
DTSTAMP:20260423T045606Z
SUMMARY:Szachy dla dzieci (6+)| Chess for children (6+) | Шахи для дітей (6+)
DESCRIPTION:Grupa wiekowa: 6+ Język prowadzenia: ukraińskiPL: Klub szachowy dla dzieci i młodzieży w centrum Miejsce OtwartePod okiem doświadczonego nauczyciela będziemy uczyć się strategii i......
URL:https://app.evenea.pl/event/szachy61403/
PRIORITY:1
CLASS:PUBLIC
END:VEVENT
END:VCALENDAR
