BEGIN:VCALENDAR
VERSION:2.0
METHOD:PUBLISH
BEGIN:VEVENT
DTSTART:20240425T180000
DTEND:20240425T190000
LOCATION:Miejsce Otwarte. Centrum Integracji Międzykulturowej. Kraków os. Górali 24  Kraków
TRANSP: OPAQUE
SEQUENCE:0
UID:
DTSTAMP:20260423T045617Z
SUMMARY:Szachy dla dzieci (9+)| Chess for children (9+) | Шахи для дітей (9+)
DESCRIPTION:Grupa wiekowa: 9+ Język prowadzenia: ukraińskiPL: Klub szachowy dla dzieci i młodzieży w centrum Miejsce OtwartePod okiem doświadczonego nauczyciela będziemy uczyć się strategii i......
URL:https://app.evenea.pl/event/szachy92504/
PRIORITY:1
CLASS:PUBLIC
END:VEVENT
END:VCALENDAR
