BEGIN:VCALENDAR
VERSION:2.0
METHOD:PUBLISH
BEGIN:VEVENT
DTSTART:20240709T103000
DTEND:20240709T113000
LOCATION:Centrum Edukacji i Wsparcia os. Górali 24  Kraków
TRANSP: OPAQUE
SEQUENCE:0
UID:
DTSTAMP:20260424T000028Z
SUMMARY:Szachy z Ryśkiem | Chess with Rysiek | Шахи з Ryśkiem
DESCRIPTION:Grupa wiekowa: dla dorosłych i seniorówJęzyk prowadzenia: polski, ukraiński, rosyjskiZapraszamy panów na szachy w doborowym towarzystwie. Dlaczego? Dlatego, że szachy przez setki lat wciąż......
URL:https://app.evenea.pl/event/szachydlamezczyzn0907/
PRIORITY:1
CLASS:PUBLIC
END:VEVENT
END:VCALENDAR
