BEGIN:VCALENDAR
VERSION:2.0
METHOD:PUBLISH
BEGIN:VEVENT
DTSTART:20260303T100000
DTEND:20260303T123000
LOCATION:Centrum Konferencyjne ZAMEK ul. Mickiewicza 2  Szczecinek
TRANSP: OPAQUE
SEQUENCE:0
UID:
DTSTAMP:20260424T194436Z
SUMMARY:Spotkanie biznesowe "Na co przedsiębiorca może obecnie otrzymać wsparcie? Polska Strefa Inwestycji i inne zachęty oraz dotacje."
DESCRIPTION:Szanowni Państwo,Pomorska Agencja Rozwoju Regionalnego S.A., spółka zarządzająca Słupską Specjalną Strefą Ekonomiczną oraz KPMG w Polsce zapraszają przedsiębiorców na: szkolenie dot.......
URL:https://app.evenea.pl/event/szczecinekspotkanie/
PRIORITY:1
CLASS:PUBLIC
END:VEVENT
END:VCALENDAR
