BEGIN:VCALENDAR
VERSION:2.0
METHOD:PUBLISH
BEGIN:VEVENT
DTSTART:20180620T180000
DTEND:20180620T200000
LOCATION:Szkoła Psychoterapii Gestalt Ul. Wernyhory 12  Warszawa
TRANSP: OPAQUE
SEQUENCE:0
UID:
DTSTAMP:20260425T174609Z
SUMMARY:Dzień Otwarty w Szkole Psychoterapii Gestalt
DESCRIPTION:Zapraszamy na Dzień Otwarty w Szkole Psychoterapii Gestalt w Warszawie.To spotkanie jest dla Ciebie jeśli: - chcesz dowiedzieć się jak zostać psychoterapeutą Gestalt - chcesz dowiedzieć się......
URL:https://app.evenea.pl/event/szkolagestalt3/
PRIORITY:1
CLASS:PUBLIC
END:VEVENT
END:VCALENDAR
