BEGIN:VCALENDAR
VERSION:2.0
METHOD:PUBLISH
BEGIN:VEVENT
DTSTART:20251115T100000
DTEND:20251115T170000
LOCATION:Centrum Nauki Experyment aleja Zwycięstwa 96/98  Gdynia
TRANSP: OPAQUE
SEQUENCE:0
UID:
DTSTAMP:20260422T150826Z
SUMMARY:Szkolenia przygotowawcze do ScienceCom 2025
DESCRIPTION:Co zrobić, by dobrze zaprezentować się przed publicznością? W jaki sposób przygotować perfekcyjną prezentację? Jak zapanować nad swoim głosem podczas wystąpienia? Między innymi tego......
URL:https://app.evenea.pl/event/szkolenia-przygotowawcze-do-sciencecom-2025/
PRIORITY:1
CLASS:PUBLIC
END:VEVENT
END:VCALENDAR
