BEGIN:VCALENDAR
VERSION:2.0
METHOD:PUBLISH
BEGIN:VEVENT
DTSTART:20220823T090000
DTEND:20220824T160000
LOCATION:Akwedukt Poznań ul. Świt 5  62-090 Kobylniki
TRANSP: OPAQUE
SEQUENCE:0
UID:
DTSTAMP:20260421T101354Z
SUMMARY:Szkolenie z zakresu projektowania i montażu systemów automatycznego nawadniania
DESCRIPTION:Szkolenie nastawione na praktyczne ćwiczenia - w tym roku wprowadzamy jeszcze bardziej rozbudowaną część praktyczną. Plan szkolenia z nawadniania: Czas trwania: 2 dni g. 9:00 - 16:00 dzień 1......
URL:https://app.evenea.pl/event/szkolenie-nawadnianie-poznan-230822/
PRIORITY:1
CLASS:PUBLIC
END:VEVENT
END:VCALENDAR
