BEGIN:VCALENDAR
VERSION:2.0
METHOD:PUBLISH
BEGIN:VEVENT
DTSTART:20250324T173000
DTEND:20250324T173000
LOCATION:online   
TRANSP: OPAQUE
SEQUENCE:0
UID:
DTSTAMP:20260421T212434Z
SUMMARY:Jak przygotować wniosek do projektu Śląskie NOWEFIO
DESCRIPTION:Podczas spotkania omówione zostaną kluczowe kwestie związane z przygotowaniem części merytorycznej i finansowej wniosku o dotację w konkursie na realizację działań oraz rozwój......
URL:https://app.evenea.pl/event/szkolenie18062024kopia2kopia1kopia1kopia3kopia1/
PRIORITY:1
CLASS:PUBLIC
END:VEVENT
END:VCALENDAR
