BEGIN:VCALENDAR
VERSION:2.0
METHOD:PUBLISH
BEGIN:VEVENT
DTSTART:20220602T110000
DTEND:20220602T163000
LOCATION:Gdynia InfoBox Świętojańska 30  Gdynia
TRANSP: OPAQUE
SEQUENCE:0
UID:
DTSTAMP:20260425T183235Z
SUMMARY:Szkolenie z budowy wizerunku i wystąpień publicznych
DESCRIPTION:👇👇👇Serdecznie zapraszamy Gdyńskie Firmy Rodzinne na bezpłatne szkolenie z zakresu:𝘽𝙪𝙙𝙤𝙬𝙖𝙣𝙞𝙖 𝙬𝙞𝙯𝙚𝙧𝙪𝙣𝙠𝙪 𝙬......
URL:https://app.evenea.pl/event/szkoleniefirmyrodzinnegdynia/
PRIORITY:1
CLASS:PUBLIC
END:VEVENT
END:VCALENDAR
