BEGIN:VCALENDAR
VERSION:2.0
METHOD:PUBLISH
BEGIN:VEVENT
DTSTART:20250220T100000
DTEND:20250220T150000
LOCATION:Urząd Gminy Czosnów (sala nr 15) ul. Gminna 6  05-152 Czosnów
TRANSP: OPAQUE
SEQUENCE:0
UID:
DTSTAMP:20260421T135509Z
SUMMARY:Szkolenie przygotowujące do aplikowania o wsparcie - 2.1 Poprawa dostępu do małej infrastruktury publicznej (...)
DESCRIPTION:Stowarzyszenie "Między Wisłą a Kampinosem" serdecznie zaprasza 20 lutego 2025 r. w godzinach 10:00-15:00 do Urzędu Gminy Czosnów, ul. Gminna 6, 05-152 Czosnów (sala nr 15) na szkolenie......
URL:https://app.evenea.pl/event/szkoleniemalainfrastruktura/
PRIORITY:1
CLASS:PUBLIC
END:VEVENT
END:VCALENDAR
