BEGIN:VCALENDAR
VERSION:2.0
METHOD:PUBLISH
BEGIN:VEVENT
DTSTART:20150730T100000
DTEND:20150730T180000
LOCATION:Biuro OVB-TEAM.PL Senatorska 24/26  Łódź
TRANSP: OPAQUE
SEQUENCE:0
UID:
DTSTAMP:20260421T181322Z
SUMMARY:Szkolenie Podstawowe OVB, Łódź 30 lipca
DESCRIPTION:W dniu 30 lipca 2015r odbędzie się w Łodzi kolejne Szkolenie Podstawowe dla nowych współpracowników OVB-TEAM.Startujemy o godz. 10.00, zakończenie ok. godz. 18.00. Obowiązuje strój......
URL:https://app.evenea.pl/event/szkoleniepodstawoweovb/
PRIORITY:1
CLASS:PUBLIC
END:VEVENT
END:VCALENDAR
