BEGIN:VCALENDAR
VERSION:2.0
METHOD:PUBLISH
BEGIN:VEVENT
DTSTART:20191114T160000
DTEND:20191114T180000
LOCATION:OKRĘGOWA RADA ADWOKACKA W WARSZAWIE AL. UJAZDOWSKIE 49  WARSZAWA
TRANSP: OPAQUE
SEQUENCE:0
UID:
DTSTAMP:20260424T153636Z
SUMMARY:Szkolenie: Wybrane aspekty postępowania kasacyjnego w postępowaniu sądowoadministracyjnym
DESCRIPTION:Szanowni Państwo!Sekcja Prawa Podatkowego przy Okręgowej Radzie Adwokackiej w Warszawie ma przyjemność zaprosić na szkolenie: Wybrane aspekty postępowania kasacyjnego w postępowaniu......
URL:https://app.evenea.pl/event/szkolenieppsa/
PRIORITY:1
CLASS:PUBLIC
END:VEVENT
END:VCALENDAR
