BEGIN:VCALENDAR
VERSION:2.0
METHOD:PUBLISH
BEGIN:VEVENT
DTSTART:20190512T100000
DTEND:20190512T100000
LOCATION:Smarz Hair Institute Szymanowskiego 2  Gdańsk
TRANSP: OPAQUE
SEQUENCE:0
UID:
DTSTAMP:20260422T182405Z
SUMMARY:Pojaśnienia i słoneczne refleksy: techniki nowoczesnych koloryzacji rozjaśniających
DESCRIPTION:Nauczysz się:Jak zmieniać pasemka i balejaże w nowoczesne pojaśnienia i refleksyJak tworzyć trwałe i świetliste blondy na głowach Twoich KlientówZdobędziesz umiejętności, jak tworzyć......
URL:https://app.evenea.pl/event/szkoleniesmarz1205/
PRIORITY:1
CLASS:PUBLIC
END:VEVENT
END:VCALENDAR
