BEGIN:VCALENDAR
VERSION:2.0
METHOD:PUBLISH
BEGIN:VEVENT
DTSTART:20240501T130000
DTEND:20240505T180000
LOCATION:Centrum Edukacji Leśnej "Szmaragd" ul. Kopalniana 12  Szczecin
TRANSP: OPAQUE
SEQUENCE:0
UID:
DTSTAMP:20260423T001743Z
SUMMARY:Majówka w Centrum Edukacji Leśnej Szmaragd
DESCRIPTION:Zapraszamy serdecznie na otwarcie sezonu turystycznego w CEL Szmaragd!!!Jak zwykle o tej porze kulturalnie wypraszamy ostatnie nietoperze z Podziemnej Trasy Turystycznej , wprowadzając Was w......
URL:https://app.evenea.pl/event/szmaragdpodziemia/
PRIORITY:1
CLASS:PUBLIC
END:VEVENT
END:VCALENDAR
