BEGIN:VCALENDAR
VERSION:2.0
METHOD:PUBLISH
BEGIN:VEVENT
DTSTART:20240815T110000
DTEND:20240818T180000
LOCATION:Centrum Edukacji Leśnej "Szmaragd" ul. Kopalniana 12  Szczecin
TRANSP: OPAQUE
SEQUENCE:0
UID:
DTSTAMP:20260421T200545Z
SUMMARY:Długi weekend w CEL Szmaragd
DESCRIPTION:Zwiedzanie Podziemnej Trasy Turystycznej z wyjściem Podziemną Wieżą - idealne ochłodzenie na letnie upały.Jeżeli chcielibyście: - Znaleźć się w miejscu gdzie jest nawet 20 stopni......
URL:https://app.evenea.pl/event/szmaragdpodziemia2/
PRIORITY:1
CLASS:PUBLIC
END:VEVENT
END:VCALENDAR
