BEGIN:VCALENDAR
VERSION:2.0
METHOD:PUBLISH
BEGIN:VEVENT
DTSTART:20260428T100000
DTEND:20260428T100000
LOCATION:Triqube ul. Januszowicka 5, Wrocław ul. Januszowicka 5  biuro@zig.pl
TRANSP: OPAQUE
SEQUENCE:0
UID:
DTSTAMP:20260423T163052Z
SUMMARY:Sztuczna Inteligencja w Praktyce
DESCRIPTION:Sztuczna Inteligencja w Praktyce28 kwietnia 2026godz. 10:00 - 16:00 TriQube ul. Januszowicka 5, Wrocław📅 Agenda1. Część Teoretyczna: Fundamenty i Strategia Audyt wiedzy: Sprawdzimy, na jakim......
URL:https://app.evenea.pl/event/sztucznainteligencjawarsztatkopia1/
PRIORITY:1
CLASS:PUBLIC
END:VEVENT
END:VCALENDAR
