BEGIN:VCALENDAR
VERSION:2.0
METHOD:PUBLISH
BEGIN:VEVENT
DTSTART:20221022T100000
DTEND:20221022T100000
LOCATION:GAK GAMA Starowiejska 15  Gdańsk
TRANSP: OPAQUE
SEQUENCE:0
UID:
DTSTAMP:20260421T125757Z
SUMMARY:SZTUKA WSPÓLNOTY
DESCRIPTION:Jeśli chcesz: 🦑dowiedzieć się jak tworzyć działania artystyczne, które angażują i oddziałowują na lokalną społeczność, 🦑pracować pod okiem trójmiejskich artystek i dostać......
URL:https://app.evenea.pl/event/sztukawspolnoty/
PRIORITY:1
CLASS:PUBLIC
END:VEVENT
END:VCALENDAR
