BEGIN:VCALENDAR
VERSION:2.0
METHOD:PUBLISH
BEGIN:VEVENT
DTSTART:20210609T180000
DTEND:20210609T180000
LOCATION:filia nr 7 Miejskiej Biblioteki Publicznej w Szczecinie pl. Matki Teresy z Kalkuty 8  Szczecin
TRANSP: OPAQUE
SEQUENCE:0
UID:
DTSTAMP:20260419T145936Z
SUMMARY:Malarska retrospektywa - Ryszard Szwed
DESCRIPTION:Zapraszamy do oglądania wystawy "Malarska retrospektywa - Ryszard Szwed", którą można oglądać w czerwcu w ProMediach (al. Wojska Polskiego 2). Wernisaż odbędzie się 9 czerwca (środa) o......
URL:https://app.evenea.pl/event/szwedwernisaz/
PRIORITY:1
CLASS:PUBLIC
END:VEVENT
END:VCALENDAR
