BEGIN:VCALENDAR
VERSION:2.0
METHOD:PUBLISH
BEGIN:VEVENT
DTSTART:20240314T170000
DTEND:20240314T190000
LOCATION:Miejsce Otwarte. Centrum Integracji Międzykulturowej. Kraków os. Górali 24  Kraków
TRANSP: OPAQUE
SEQUENCE:0
UID:
DTSTAMP:20260423T050229Z
SUMMARY:Podstawy szydełkowania | The basics of crochet | Основи в'язання гачком
DESCRIPTION:Grupa wiekowa: 7+Język prowadzenia: ukraiński, polski...
URL:https://app.evenea.pl/event/szydelkowanie1403/
PRIORITY:1
CLASS:PUBLIC
END:VEVENT
END:VCALENDAR
