BEGIN:VCALENDAR
VERSION:2.0
METHOD:PUBLISH
BEGIN:VEVENT
DTSTART:20251203T170000
DTEND:20251203T193000
LOCATION:AmberExpo Żaglowa  Gdańsk
TRANSP: OPAQUE
SEQUENCE:0
UID:
DTSTAMP:20260421T170618Z
SUMMARY:Talent na orbicie - spotkanie z polskim astronautą doktorem Sławoszem Uznańskim-Wiśniewskim
DESCRIPTION:Uwaga, Talent widoczny na orbicie! Już wkrótce wyląduje w naszym mieście niezwykły gość - polski astronauta dr Sławosz Uznański-Wiśniewski. Zapraszamy na spotkanie, podczas którego......
URL:https://app.evenea.pl/event/talent-na-orbicie/
PRIORITY:1
CLASS:PUBLIC
END:VEVENT
END:VCALENDAR
