BEGIN:VCALENDAR
VERSION:2.0
METHOD:PUBLISH
BEGIN:VEVENT
DTSTART:20240426T180000
DTEND:20240426T210000
LOCATION:Centrum Edukacji i Wsparcia os. Górali 24  Kraków
TRANSP: OPAQUE
SEQUENCE:0
UID:
DTSTAMP:20260423T050209Z
SUMMARY:Potańcówka dla seniorów | Dance party for seniors | Танцювальна вечірка для сеньйорів
DESCRIPTION:Grupa wiekowa: dla dorosłych i seniorówJęzyk prowadzenia: polskiKIEDY: 26.04.2024W GODZINACH: 18:00-21:00 ADRES: Centrum Edukacji i Wsparcia, osiedle Górali 24, KrakówDLA KOGO: 60+Serdecznie......
URL:https://app.evenea.pl/event/tancedlaseniorow2604/
PRIORITY:1
CLASS:PUBLIC
END:VEVENT
END:VCALENDAR
