BEGIN:VCALENDAR
VERSION:2.0
METHOD:PUBLISH
BEGIN:VEVENT
DTSTART:20240409T103000
DTEND:20240409T113000
LOCATION:Centrum Edukacji i Wsparcia os. Górali 24  Kraków
TRANSP: OPAQUE
SEQUENCE:0
UID:
DTSTAMP:20260423T050335Z
SUMMARY:Tańce latynoskie dla początkujących | Latin dances for beginners | Латинські танці для початківців
DESCRIPTION:Grupa wiekowa: 60+ lub każdy chętny Język prowadzenia: polskiPL Szukasz radosnego sposobu na pozostanie aktywnym i towarzyskim? Dołącz do lekcji salsy i bachaty dla początkujących!Taniec to......
URL:https://app.evenea.pl/event/tancelatynoskie0904/
PRIORITY:1
CLASS:PUBLIC
END:VEVENT
END:VCALENDAR
