BEGIN:VCALENDAR
VERSION:2.0
METHOD:PUBLISH
BEGIN:VEVENT
DTSTART:20240924T103000
DTEND:20240924T113000
LOCATION:Centrum Edukacji i Wsparcia os. Górali 24  Kraków
TRANSP: OPAQUE
SEQUENCE:0
UID:
DTSTAMP:20260423T052339Z
SUMMARY:Tańce latynoskie dla początkujących | Latin dances for beginners | Латинські танці для початківців
DESCRIPTION:Grupa wiekowa: 60+ lub każdy chętny Język prowadzenia: angielski, polskiPL Szukasz radosnego sposobu na pozostanie aktywnym i towarzyskim? Dołącz do lekcji salsy i bachaty dla......
URL:https://app.evenea.pl/event/tancelatynoskie2409/
PRIORITY:1
CLASS:PUBLIC
END:VEVENT
END:VCALENDAR
