BEGIN:VCALENDAR
VERSION:2.0
METHOD:PUBLISH
BEGIN:VEVENT
DTSTART:20190906T190000
DTEND:20190920T180000
LOCATION:Dance Atelier Barbara Materka ul Grunwaldzka 301  Gdańsk
TRANSP: OPAQUE
SEQUENCE:0
UID:
DTSTAMP:20260421T053551Z
SUMMARY:Bezpłatne zajęcia w Dance Atelier w dniach 16-21.09.2019
DESCRIPTION:Poniedziałek &lt;16.09&gt;:17:55 - Bachata Pary P3 (Filip)- Salsa Solo 1 (Wera)19:00 - Salsa Solo 2 &amp; Styling (Wera)- Salsa Pary P3/S (Barbra)- Bachata Solo 1 (Evela)20:05- Izolacje (Barbra)-......
URL:https://app.evenea.pl/event/tancz-za-free-19/
PRIORITY:1
CLASS:PUBLIC
END:VEVENT
END:VCALENDAR
