BEGIN:VCALENDAR
VERSION:2.0
METHOD:PUBLISH
BEGIN:VEVENT
DTSTART:20200409T200000
DTEND:20200409T200000
LOCATION:ONLINE   
TRANSP: OPAQUE
SEQUENCE:0
UID:
DTSTAMP:20260423T211950Z
SUMMARY:Tango lesson in couple / Tango pamoka poroje 09/04/2020
DESCRIPTION:Tango lesson in couple /\n\nTango pamoka poroje \n\n09/04/2020 \n\nh. 20:00 Lithuanian time \n\nLanguage: English,\n\nLietuvių...
URL:https://app.evenea.pl/event/tangoclass001kopia1kopia1kopia1kopia1/
PRIORITY:1
CLASS:PUBLIC
END:VEVENT
END:VCALENDAR
