BEGIN:VCALENDAR
VERSION:2.0
METHOD:PUBLISH
BEGIN:VEVENT
DTSTART:20220605T110000
DTEND:20220605T180000
LOCATION:Boisko gminne ul. Leśna  05-152 Czosnów
TRANSP: OPAQUE
SEQUENCE:0
UID:
DTSTAMP:20260425T170200Z
SUMMARY:IV Targi turystyczne Misja Kampinos 2022
DESCRIPTION:Szanowni Państwo,już 05 czerwca 2022 r. na boisku przy ul. Leśnej w Czosnowie odbędzie się czwarta edycja Targów turystycznych Misja Kampinos. Zapraszamy do zgłaszania stoisk m.in.......
URL:https://app.evenea.pl/event/targi-turystyczne2022/
PRIORITY:1
CLASS:PUBLIC
END:VEVENT
END:VCALENDAR
