BEGIN:VCALENDAR
VERSION:2.0
METHOD:PUBLISH
BEGIN:VEVENT
DTSTART:20230510T173000
DTEND:20230510T173000
LOCATION:Amber Hotel Gdansk Powstańców Warszawskich 45  Gdańsk
TRANSP: OPAQUE
SEQUENCE:0
UID:
DTSTAMP:20260423T231114Z
SUMMARY:Targi Mieszkaniowe | Cypr Północny -miejsce gdzie marzenia stają się rzeczywistością!
DESCRIPTION:Zapraszamy na Targi Mieszkań na Cyprze Północnym - jedno z najważniejszych wydarzeń dla osób, które planują przenieść się na Cypr lub chcą inwestować w tamtejszy rynek......
URL:https://app.evenea.pl/event/targicyprpolnocny/
PRIORITY:1
CLASS:PUBLIC
END:VEVENT
END:VCALENDAR
