BEGIN:VCALENDAR
VERSION:2.0
METHOD:PUBLISH
BEGIN:VEVENT
DTSTART:20200301T110000
DTEND:20200301T170000
LOCATION:STARA ZAJEZDNIA KRAKÓW by DeSilva ul. Św. Wawrzyńca 12  Kraków
TRANSP: OPAQUE
SEQUENCE:0
UID:
DTSTAMP:20260422T094749Z
SUMMARY:Krakowskie alternatywne targi ślubne Happy Together
DESCRIPTION:1. marca po raz kolejny w Starej Zajezdni Kraków odbędą się alternatywne targi ślubne Happy Togetehe. To pierwsze tego typu wydarzenie ślubne w Małopolsce. Od początku staramy się, by nasi......
URL:https://app.evenea.pl/event/targihappytogether010320/
PRIORITY:1
CLASS:PUBLIC
END:VEVENT
END:VCALENDAR
