BEGIN:VCALENDAR
VERSION:2.0
METHOD:PUBLISH
BEGIN:VEVENT
DTSTART:20210909T090000
DTEND:20210912T173000
LOCATION:ON-LINE   
TRANSP: OPAQUE
SEQUENCE:0
UID:
DTSTAMP:20260422T124713Z
SUMMARY:Tarot i wzór energetyczny Wszechświata - dr Gérard ATHIAS
DESCRIPTION:Wydawnictwo Wena i Instytut Wiedzy Waleologicznej zapraszają na wyjątkowe spotkanie z dr Gérardem Athiasem! Tarot i wzór energetyczny Wszechświata. 22 matryce stworzenia.Data: 09 -......
URL:https://app.evenea.pl/event/tarotga/
PRIORITY:1
CLASS:PUBLIC
END:VEVENT
END:VCALENDAR
