BEGIN:VCALENDAR
VERSION:2.0
METHOD:PUBLISH
BEGIN:VEVENT
DTSTART:20230525T090000
DTEND:20230525T090000
LOCATION:Pomorski Park Naukowo Technologiczny Al. Zwycięstwa 96/98  Gdynia
TRANSP: OPAQUE
SEQUENCE:0
UID:
DTSTAMP:20260419T183948Z
SUMMARY:Trójmiejski Dzień Zielonych Budynków 2023
DESCRIPTION:25 maja br. w Pomorskim Parku Naukowo-Technologicznym w Gdyni rozpocznie się trzecia edycja Trójmiejskiego Dnia Zielonych Budynków - konferencji poświęconej tematyce odpowiedzialności......
URL:https://app.evenea.pl/event/tdzb2023/
PRIORITY:1
CLASS:PUBLIC
END:VEVENT
END:VCALENDAR
