BEGIN:VCALENDAR
VERSION:2.0
METHOD:PUBLISH
BEGIN:VEVENT
DTSTART:20230519T093000
DTEND:20230519T110000
LOCATION:inQUBE Wielka 67  Wrocław
TRANSP: OPAQUE
SEQUENCE:0
UID:
DTSTAMP:20260419T205730Z
SUMMARY:Team building część 4 - Warsztaty w inQUBE
DESCRIPTION:Zapraszamy na darmowe warsztaty Team building - budowanie kultury organizacyjnej opartej na zaangażowaniu i efektywności zespołu.Celem szkolenia jest pokazanie uczestnikom metod i narzędzi......
URL:https://app.evenea.pl/event/teambuilding2023cz4/
PRIORITY:1
CLASS:PUBLIC
END:VEVENT
END:VCALENDAR
