BEGIN:VCALENDAR
VERSION:2.0
METHOD:PUBLISH
BEGIN:VEVENT
DTSTART:20220909T183000
DTEND:20220909T183000
LOCATION:Młyny Rothera ul. Mennica 10  Bydgoszcz
TRANSP: OPAQUE
SEQUENCE:0
UID:
DTSTAMP:20260419T161842Z
SUMMARY:Tea Andreoletti | PEREGRYNACJA Z WODNĄ SOMMELIERKĄ/WATER TESTING PILGRIMAGE (spacer w terenie - drugi termin)
DESCRIPTION:Na zaproszenie 18. Festiwalu Mózg Tea Andreoletti zrealizuje w Bydgoszczy dwa działania. Przybiorą one formę wspólnych przechadzek po najbliższej okolicy, śladami wody. Pierwsza ma zbiórkę......
URL:https://app.evenea.pl/event/teaspacerwterenie2/
PRIORITY:1
CLASS:PUBLIC
END:VEVENT
END:VCALENDAR
