BEGIN:VCALENDAR
VERSION:2.0
METHOD:PUBLISH
BEGIN:VEVENT
DTSTART:20250511T130000
DTEND:20250511T130000
LOCATION:Dobre Miejsce - Katolickie Centrum Kultury Dewajtis 3 (wej.B)  Warszawa
TRANSP: OPAQUE
SEQUENCE:0
UID:
DTSTAMP:20260422T205028Z
SUMMARY:Niedzielne Bajeczki - Krawiec Niteczka
DESCRIPTION:Zapraszamy na kolejny teatrzyk dla dzieci z cyklu "Niedzielne Bajeczki". Tym razem będzie u nas gościł Teatr Bajka ze spektaklem "Krawiec Niteczka" według baśni Kornela Makuszyńskiego. Data:......
URL:https://app.evenea.pl/event/teatrbajka/
PRIORITY:1
CLASS:PUBLIC
END:VEVENT
END:VCALENDAR
