BEGIN:VCALENDAR
VERSION:2.0
METHOD:PUBLISH
BEGIN:VEVENT
DTSTART:20240611T100000
DTEND:20240611T100000
LOCATION:Centrum konferencyjne, Terminal Hotel ul. Rakietowa 33  Wrocław
TRANSP: OPAQUE
SEQUENCE:0
UID:
DTSTAMP:20260420T174540Z
SUMMARY:Technologie dla biznesu | 11 czerwca 2024r
DESCRIPTION:Zapraszamy na konferencję o zrównoważonym biznesie i ekologicznych technologiach dla biznesuRozmowy z ekspertami i praktykami o:💸pozyskania środków unijnych💧na ekologiczne technologie......
URL:https://app.evenea.pl/event/techbiz/
PRIORITY:1
CLASS:PUBLIC
END:VEVENT
END:VCALENDAR
