BEGIN:VCALENDAR
VERSION:2.0
METHOD:PUBLISH
BEGIN:VEVENT
DTSTART:20251117T100000
DTEND:20251117T130000
LOCATION:Poznań Biznes Partner ul. 28 czerwca 1956r. nr 404, sala C, II piętro  Poznań
TRANSP: OPAQUE
SEQUENCE:0
UID:
DTSTAMP:20260422T131821Z
SUMMARY:Technologia pod kontrolą. Jak połączyć projekty, produkty i AI, żeby biznes działał mądrzej i efektywniej
DESCRIPTION:Poznań Biznes Partner i Łukasz Filut zapraszają na bezpłatne stacjonarne szkolenie pt.Technologia pod kontrolą. Jak połączyć projekty, produkty i AI, żeby biznes działał mądrzej i......
URL:https://app.evenea.pl/event/technologia-pod-kontrola/
PRIORITY:1
CLASS:PUBLIC
END:VEVENT
END:VCALENDAR
