BEGIN:VCALENDAR
VERSION:2.0
METHOD:PUBLISH
BEGIN:VEVENT
DTSTART:20251114T080000
DTEND:20251114T080000
LOCATION:Google for Startups Campus Plac Konecera, 10  Warsaw
TRANSP: OPAQUE
SEQUENCE:0
UID:
DTSTAMP:20260420T144336Z
SUMMARY:Cloud & CI/CD Security | TechSpot Meetup
DESCRIPTION:Cloud &amp; CI/CD Security | TechSpot meetup November 7, 2025 | WarsawCommunity of 100+ engineers, expert speakers, and a dive into protecting development pipelines. We'll focus on real cases,......
URL:https://app.evenea.pl/event/techspot-cloud-cicd-security/
PRIORITY:1
CLASS:PUBLIC
END:VEVENT
END:VCALENDAR
