BEGIN:VCALENDAR
VERSION:2.0
METHOD:PUBLISH
BEGIN:VEVENT
DTSTART:20250701T180000
DTEND:20250701T213000
LOCATION:Hard Rock Cafe Wrocław Rynek 25  Wrocław
TRANSP: OPAQUE
SEQUENCE:0
UID:
DTSTAMP:20260423T073550Z
SUMMARY:Tech Talk | MeetUp #9 | Fullstack & dev.js
DESCRIPTION:⏱ Data: 1 lipca 2025 roku, godz. 18:00🔵Miejsce: Hard Rock Cafe Wrocław, ul. Rynek 25, WrocławZapraszamy na wydarzenie Tech Talk | MeetUp #9 | Fullstack &amp; dev.js, które odbędzie się......
URL:https://app.evenea.pl/event/techtalk9fullstack/
PRIORITY:1
CLASS:PUBLIC
END:VEVENT
END:VCALENDAR
