BEGIN:VCALENDAR
VERSION:2.0
METHOD:PUBLISH
BEGIN:VEVENT
DTSTART:20231007T140000
DTEND:20231007T200000
LOCATION:Teatr KTO Zamoyskiego 50  Krakow
TRANSP: OPAQUE
SEQUENCE:0
UID:
DTSTAMP:20260423T153124Z
SUMMARY:TEDxKazimierz - Hidden Heroes
DESCRIPTION:Hidden Heroes is a conference about technology, matters of high importance, mutual respect, the future, and life.At these challenging times, our communities are still witnessing injustice, lack of......
URL:https://app.evenea.pl/event/tedxhiddenheroes/
PRIORITY:1
CLASS:PUBLIC
END:VEVENT
END:VCALENDAR
