BEGIN:VCALENDAR
VERSION:2.0
METHOD:PUBLISH
BEGIN:VEVENT
DTSTART:20230124T100000
DTEND:20230124T150000
LOCATION:Teatr im. Wandy Siemaszkowej Sokoła 7/9  Rzeszów
TRANSP: OPAQUE
SEQUENCE:0
UID:
DTSTAMP:20260420T005334Z
SUMMARY:TEDxRzeszow Countdown 24.01.2023
DESCRIPTION:TED oznacza Technology, Entertainment, Design - technologię, rozrywkę, projektowanie — trzy szerokie obszary tematyczne, które wspólnie kształtują nasz świat. Ale konferencja TED ma......
URL:https://app.evenea.pl/event/tedxrzeszow/
PRIORITY:1
CLASS:PUBLIC
END:VEVENT
END:VCALENDAR
