BEGIN:VCALENDAR
VERSION:2.0
METHOD:PUBLISH
BEGIN:VEVENT
DTSTART:20240312T160000
DTEND:20240312T173000
LOCATION:Hala 100-lecia KS Cracovia 1906, płyta boiska, drugi sektor Hala 100-lecia KS Cracovia 1906  Kraków
TRANSP: OPAQUE
SEQUENCE:0
UID:
DTSTAMP:20260423T053325Z
SUMMARY:Trening tenisa stołowego dla młodzieży 12+ | Table tennis training for youth 12+ | Тренування з настільного тенісу для молоді 12+
DESCRIPTION:Grupa wiekowa: 12+Język prowadzenia: polskiPL: Zapraszamy serdecznie do udziału w niezwykłych, bezpłatnych zajęciach treningu tenisa stołowego, dedykowanych dla dzieci i młodzieży w wieku......
URL:https://app.evenea.pl/event/tenisstolowy1203/
PRIORITY:1
CLASS:PUBLIC
END:VEVENT
END:VCALENDAR
