BEGIN:VCALENDAR
VERSION:2.0
METHOD:PUBLISH
BEGIN:VEVENT
DTSTART:20200328T090000
DTEND:20200328T180000
LOCATION:Golden Floor Plaza Aleje Jerozolimskie 123A  Warszawa
TRANSP: OPAQUE
SEQUENCE:0
UID:
DTSTAMP:20260421T125658Z
SUMMARY:Testaton 2020 - warsztaty sobotnie
DESCRIPTION:...
URL:https://app.evenea.pl/event/testatonwarsztatsb/
PRIORITY:1
CLASS:PUBLIC
END:VEVENT
END:VCALENDAR
