BEGIN:VCALENDAR
VERSION:2.0
METHOD:PUBLISH
BEGIN:VEVENT
DTSTART:20240129T170000
DTEND:20240129T170000
LOCATION:Fundacja CODE:ME   Zdalnie
TRANSP: OPAQUE
SEQUENCE:0
UID:
DTSTAMP:20260422T120949Z
SUMMARY:CODE:ME || Podstawy testowania w praktyce || 01.2024
DESCRIPTION:\n\nKURS PODSTAWY TESTOWANIA W PRAKTYCE\n\nNawet najlepszy pomysł wymaga porządnego przetestowania. Wierzymy, że dobry tester musi być wszechstronny. Dlatego pracujemy ze wszystkimi rodzajami......
URL:https://app.evenea.pl/event/testowanieistqbstyczen/
PRIORITY:1
CLASS:PUBLIC
END:VEVENT
END:VCALENDAR
