BEGIN:VCALENDAR
VERSION:2.0
METHOD:PUBLISH
BEGIN:VEVENT
DTSTART:20220517T193000
DTEND:20220517T210000
LOCATION:ONLINE   
TRANSP: OPAQUE
SEQUENCE:0
UID:
DTSTAMP:20260423T181325Z
SUMMARY:Way of Stefan - Zarządzanie zagadnieniami i zmianą czyli Issues and Change Management
DESCRIPTION:The Way of Stefan - piąty przystanek: Zarządzanie zagadnieniami i zmianą czyli Issues and Change ManagementNieważne, jak dobrze wyglądał plan.Nieważne, że Stefan przewidział tyle ryzyk.I......
URL:https://app.evenea.pl/event/thewayofstefanzmiana/
PRIORITY:1
CLASS:PUBLIC
END:VEVENT
END:VCALENDAR
