BEGIN:VCALENDAR
VERSION:2.0
METHOD:PUBLISH
BEGIN:VEVENT
DTSTART:20190517T210000
DTEND:20190517T210000
LOCATION:ONE LOVE WROCŁAW OFIAR OŚWIĘCIMSKICH 36  WROCŁAW
TRANSP: OPAQUE
SEQUENCE:0
UID:
DTSTAMP:20260420T160026Z
SUMMARY:Tinder Party X One Love X Party Productions X #2
DESCRIPTION:Wracam do Was z drugą edycją legendarnie miłosnej imprezy Tinder Party 🖤Pierwsza edycja przerosła moje najśmielsze oczekiwania, dlatego teraz wracam do Was z jeszcze mocniejszym miłosnym......
URL:https://app.evenea.pl/event/tinderparty/
PRIORITY:1
CLASS:PUBLIC
END:VEVENT
END:VCALENDAR
