BEGIN:VCALENDAR
VERSION:2.0
METHOD:PUBLISH
BEGIN:VEVENT
DTSTART:20230909T090000
DTEND:20230910T180000
LOCATION:Europejskie Centrum Solidarności  I  European Solidarity Centre plac Solidarności 1  Gdańsk
TRANSP: OPAQUE
SEQUENCE:0
UID:
DTSTAMP:20260422T162443Z
SUMMARY:VII TRAMPki - Spotkania Podróżujących Kobiet, Gdańsk 9-10 września 2023
DESCRIPTION:Zapraszamy na VII edycję festiwalu TRAMPki - Spotkania Podróżujących KobietGdańsk, 9-10 września 2023Spotkania Podróżujących Kobiet - TRAMPki - to ogólnopolski festiwal podróżniczy......
URL:https://app.evenea.pl/event/trampki2023/
PRIORITY:1
CLASS:PUBLIC
END:VEVENT
END:VCALENDAR
