BEGIN:VCALENDAR
VERSION:2.0
METHOD:PUBLISH
BEGIN:VEVENT
DTSTART:20250919T170000
DTEND:20250921T180000
LOCATION:Europejskie Centrum Solidarności  I  European Solidarity Centre oraz Mamuszki 15, Sopot (piątek) plac Solidarności 1  Gdańsk
TRANSP: OPAQUE
SEQUENCE:0
UID:
DTSTAMP:20260424T135022Z
SUMMARY:IX TRAMPki - Spotkania Podróżujących Kobiet, Gdańsk/Sopot, 19 - 21 września 2025
DESCRIPTION:Zapraszamy na IX edycję Festiwalu TRAMPki - Spotkania Podróżujących KobietGdańsk, 20 - 21 września 2025, Sopot, 19 września 2025\n\n	Spotkania Podróżujących Kobiet - TRAMPki - to......
URL:https://app.evenea.pl/event/trampki2025/
PRIORITY:1
CLASS:PUBLIC
END:VEVENT
END:VCALENDAR
