BEGIN:VCALENDAR
VERSION:2.0
METHOD:PUBLISH
BEGIN:VEVENT
DTSTART:20260226T170000
DTEND:20260226T170000
LOCATION:Dom Sąsiedzki w Nowym Porcie ul. Wyzwolenia 49  Gdańsk
TRANSP: OPAQUE
SEQUENCE:0
UID:
DTSTAMP:20260422T073235Z
SUMMARY:Tramwaj z Nowego Portu - stwórz własną pamiątkę z dzielnicy
DESCRIPTION:Zapraszamy na warsztaty mieszkańców dzielnicy Nowy Port, podczas których stworzymy unikatowe pamiątki inspirowane lokalnym klimatem. Podczas spotkania uczestnicy będą mogli stworzyć......
URL:https://app.evenea.pl/event/tramwajznowegoportu/
PRIORITY:1
CLASS:PUBLIC
END:VEVENT
END:VCALENDAR
