BEGIN:VCALENDAR
VERSION:2.0
METHOD:PUBLISH
BEGIN:VEVENT
DTSTART:20221125T090000
DTEND:20221125T150000
LOCATION:Sala Okrągła im. Lecha Bądkowskiego ul. Okopowa 21/27  Gdańsk
TRANSP: OPAQUE
SEQUENCE:0
UID:
DTSTAMP:20260421T225355Z
SUMMARY:Konferencja pt.: "Wyzwania pomorskiej transformacji energetycznej - doświadczenia szwedzkie"
DESCRIPTION:Marszałek Województwa Pomorskiego Mieczysław Strukzaprasza na wydarzenie pt.: "Wyzwania pomorskiej transformacji energetycznej - doświadczenia szwedzkie",które odbędzie się 25 listopada 2022......
URL:https://app.evenea.pl/event/transformacja-energetyczna/
PRIORITY:1
CLASS:PUBLIC
END:VEVENT
END:VCALENDAR
